BEGIN:VCALENDAR
VERSION:2.0
PRODID:-//Tukios.com/
BEGIN:VEVENT
UID:d5250ca4-edc9-473f-9a13-916a060dfa25@www.yazelmeglifh.com
DTSTAMP:20260424T211513Z
DTSTART:20260501T160000Z
DTEND:20260501T170000Z
SUMMARY:Funeral Service
DESCRIPTION:
URL:https://www.yazelmeglifh.com/obituaries/everett-hubbard
LOCATION:Our Redeemer Lutheran Church 802 E Trapp St  Herington KS 67449
GEO:38.6678878;-96.9332872
END:VEVENT
END:VCALENDAR