BEGIN:VCALENDAR
VERSION:2.0
PRODID:-//Tukios.com/
BEGIN:VEVENT
UID:e5492c16-0114-4fdc-a0dd-2d444aaf6e80@www.yazelmeglifh.com
DTSTAMP:20260424T211703Z
DTSTART:20260501T150000Z
DTEND:20260501T160000Z
SUMMARY:Visitation with Family
DESCRIPTION:
URL:https://www.yazelmeglifh.com/obituaries/everett-hubbard
LOCATION: 802 E Trapp St  Herington KS 67449
GEO:38.6679229;-96.9333175
END:VEVENT
END:VCALENDAR