BEGIN:VCALENDAR
VERSION:2.0
PRODID:-//Tukios.com/
BEGIN:VEVENT
UID:442becdd-b0d5-4f2a-930c-88468791aa2b@www.yazelmeglifh.com
DTSTAMP:20260424T211513Z
DTSTART:20260501T173000Z
DTEND:20260501T183000Z
SUMMARY:Graveside Service
DESCRIPTION:Following the service.
URL:https://www.yazelmeglifh.com/obituaries/everett-hubbard
LOCATION:  Cemetery Rd  Lincolnville KS 66858
GEO:38.496536;-96.9670329
END:VEVENT
END:VCALENDAR