BEGIN:VCALENDAR
VERSION:2.0
PRODID:-//Tukios.com/
BEGIN:VEVENT
UID:d85c21a0-83b2-4edb-bab1-c2008b965d25@www.yazelmeglifh.com
DTSTAMP:20260424T213416Z
DTSTART:20260517T170000Z
DTEND:20260517T190000Z
SUMMARY:Visitation
DESCRIPTION:
URL:https://www.yazelmeglifh.com/obituaries/judith-bish-priest
LOCATION: 105 Eastmoor Dr  Marion KS 66861
GEO:38.3479248;-97.0056218
END:VEVENT
END:VCALENDAR