BEGIN:VCALENDAR
VERSION:2.0
PRODID:-//Tukios.com/
BEGIN:VEVENT
UID:a915e6d6-d710-4ab8-b3aa-217210a85278@www.yazelmeglifh.com
DTSTAMP:20260424T212853Z
DTSTART:20260620T160000Z
DTEND:20260620T170000Z
SUMMARY:Memorial Service
DESCRIPTION:
URL:https://www.yazelmeglifh.com/obituaries/judith-bish-priest
LOCATION: 105 Eastmoor Dr  Marion KS 66861
GEO:38.3479248;-97.0056218
END:VEVENT
END:VCALENDAR